BEGIN:VCALENDAR
VERSION:2.0
PRODID:-//WelpIcalBundle//Calendar App//NL
CALSCALE:GREGORIAN
METHOD:PUBLISH
BEGIN:VTIMEZONE
TZID:Europe/Amsterdam
BEGIN:STANDARD
DTSTART:19691231T230000
TZOFFSETTO:+0100
TZOFFSETFROM:+0100
END:STANDARD
END:VTIMEZONE
BEGIN:VEVENT
UID:
DTSTART:20260418T160000
DTEND:20260420T105034
STATUS:
SUMMARY:Webinar Autonomics; een nieuwe benadering in welzijn
DESCRIPTION:<p>Dit webinar is een introductie tot Autonomics, met aand
 acht voor ons zenuwstelsel onze aandacht stuurt, van moment tot moment
 . Onderwerpen als regulatie, veiligheid, omgeving en ontwikkeling spel
 en een enorme rol in dit werk. </p>
DTSTAMP:20260420T085034Z
END:VEVENT
END:VCALENDAR
