BEGIN:VCALENDAR
VERSION:2.0
PRODID:-//WelpIcalBundle//Calendar App//NL
CALSCALE:GREGORIAN
METHOD:PUBLISH
BEGIN:VTIMEZONE
TZID:Europe/Amsterdam
BEGIN:STANDARD
DTSTART:19691231T230000
TZOFFSETTO:+0100
TZOFFSETFROM:+0100
END:STANDARD
END:VTIMEZONE
BEGIN:VEVENT
UID:
DTSTART:20230530T190000
DTEND:20230530T210000
STATUS:
SUMMARY:Uitgeverij Mens! - •	Webinar-serie ‘Trauma en innerlijke v
 erdeeldheid’
DESCRIPTION:<p>.</p>
DTSTAMP:20260423T112756Z
END:VEVENT
END:VCALENDAR
